BEGIN:VCALENDAR
PRODID:-//eluceo/ical//2.0/EN
VERSION:2.0
CALSCALE:GREGORIAN
BEGIN:VEVENT
UID:5b599efed67d2504bf1e768c3f41b01a
DTSTAMP:20260419T185346Z
SUMMARY:12:00 pm JCC Finance Committee Meeting
DESCRIPTION:Shalom Lehigh Valley\nCommunity Calendar\nhttps://shalomlehighv
 alley.org/calendar/jcc-finance-committee-meeting-June2015-67351\n\nContact
  Karla Lyle: klyle@lvjcc.org or 610-435-3571
DTSTART;TZID=America/New_York:20150630T120000
DTEND;TZID=America/New_York:20150630T133000
END:VEVENT
END:VCALENDAR
