BEGIN:VCALENDAR
PRODID:-//eluceo/ical//2.0/EN
VERSION:2.0
CALSCALE:GREGORIAN
BEGIN:VEVENT
UID:39dcef5c213dbdd3bdaedc8dc472eecf
DTSTAMP:20260420T033232Z
SUMMARY:11:00 am JCC Friendship Circle Program
DESCRIPTION:Shalom Lehigh Valley\nCommunity Calendar\nhttps://shalomlehighv
 alley.org/calendar/jcc-friendship-circle-program-10-6-14-68730\n\nContact 
 Karla Lyle: klyle@lvjcc.org or 610-435-3571 x119
DTSTART;TZID=America/New_York:20141006T110000
DTEND;TZID=America/New_York:20141006T140000
END:VEVENT
END:VCALENDAR
