BEGIN:VCALENDAR
PRODID:-//eluceo/ical//2.0/EN
VERSION:2.0
CALSCALE:GREGORIAN
BEGIN:VEVENT
UID:34a2179c217dd912429bb555d0788f9c
DTSTAMP:20260420T161226Z
SUMMARY:11:00 am JCC Friendship Circle Program
DESCRIPTION:Shalom Lehigh Valley\nCommunity Calendar\nhttps://shalomlehighv
 alley.org/calendar/jcc-friendship-circle-program-12-1-14-68739\n\nContact 
 Karla Lyle: klyle@lvjcc.org or 610-435-3571 x119
DTSTART;TZID=America/New_York:20141201T110000
DTEND;TZID=America/New_York:20141201T140000
END:VEVENT
END:VCALENDAR
