BEGIN:VCALENDAR
PRODID:-//eluceo/ical//2.0/EN
VERSION:2.0
CALSCALE:GREGORIAN
BEGIN:VEVENT
UID:1c8ae4d42fe26860bdeeb573f3d5bba1
DTSTAMP:20260420T214203Z
SUMMARY:11:00 am JCC Friendship Circle Program
DESCRIPTION:Shalom Lehigh Valley\nCommunity Calendar\nhttps://shalomlehighv
 alley.org/calendar/jcc-friendship-circle-program-12-22-14-68743\n\nContact
  Karla Lyle: klyle@lvjcc.org or 610-435-3571 x119
DTSTART;TZID=America/New_York:20141222T110000
DTEND;TZID=America/New_York:20141222T140000
END:VEVENT
END:VCALENDAR
