BEGIN:VCALENDAR
PRODID:-//eluceo/ical//2.0/EN
VERSION:2.0
CALSCALE:GREGORIAN
BEGIN:VEVENT
UID:108aec878c08f42d4e269359946acb28
DTSTAMP:20260419T190203Z
SUMMARY:JCC Jewish Community Center Closed
DESCRIPTION:Shalom Lehigh Valley\nCommunity Calendar\nhttps://shalomlehighv
 alley.org/calendar/jcc-jewish-community-center-closed-octo-399083\n\nJCC J
 ewish Community Center Closed
DTSTART;TZID=America/New_York:20221017T000000
DTEND;TZID=America/New_York:20221017T235959
END:VEVENT
END:VCALENDAR
