BEGIN:VCALENDAR
PRODID:-//eluceo/ical//2.0/EN
VERSION:2.0
CALSCALE:GREGORIAN
BEGIN:VEVENT
UID:6665b30237045242d0cb22433bf51b3c
DTSTAMP:20260420T163514Z
SUMMARY:JCC Jewish Community Center Closed
DESCRIPTION:Shalom Lehigh Valley\nCommunity Calendar\nhttps://shalomlehighv
 alley.org/calendar/jcc-jewish-community-center-closed-rosh2-341786\n\nJewi
 sh Community Center closed for Rosh Hashanah
DTSTART;TZID=America/New_York:20200920T000000
DTEND;TZID=America/New_York:20200920T235959
END:VEVENT
END:VCALENDAR
