BEGIN:VCALENDAR
PRODID:-//eluceo/ical//2.0/EN
VERSION:2.0
CALSCALE:GREGORIAN
BEGIN:VEVENT
UID:db2a34ece378c0e3ab69bfb1c19cbc55
DTSTAMP:20260420T042936Z
SUMMARY:JCC Jewish Community Center Closed
DESCRIPTION:Shalom Lehigh Valley\nCommunity Calendar\nhttps://shalomlehighv
 alley.org/calendar/jcc-jewish-community-center-closed-s22-399080\n\nJCC Je
 wish Community Center Closed
DTSTART;TZID=America/New_York:20220927T000000
DTEND;TZID=America/New_York:20220927T235959
END:VEVENT
END:VCALENDAR
