BEGIN:VCALENDAR
PRODID:-//eluceo/ical//2.0/EN
VERSION:2.0
CALSCALE:GREGORIAN
BEGIN:VEVENT
UID:593b0d2b19ae9034128d38330da0e4bd
DTSTAMP:20260419T183632Z
SUMMARY:JCC Jewish Community Center Closed
DESCRIPTION:Shalom Lehigh Valley\nCommunity Calendar\nhttps://shalomlehighv
 alley.org/calendar/jcc-jewish-community-center-closed-shavuot-341775\n\nJe
 wish Community Center closed for Shavuot
DTSTART;TZID=America/New_York:20200529T000000
DTEND;TZID=America/New_York:20200529T235959
END:VEVENT
END:VCALENDAR
