BEGIN:VCALENDAR
PRODID:-//eluceo/ical//2.0/EN
VERSION:2.0
CALSCALE:GREGORIAN
BEGIN:VEVENT
UID:8e57e7d2c3127dbcb82b6bb7f278eb7e
DTSTAMP:20260420T201314Z
SUMMARY:7:30 pm JCC jNights Game Night
DESCRIPTION:Shalom Lehigh Valley\nCommunity Calendar\nhttps://shalomlehighv
 alley.org/calendar/jcc-jnights-game-night-730pm-3733\n\nContact Amy Sams: 
 asams@lvjcc.org or 610-435-3571.
DTSTART;TZID=America/New_York:20140215T193000
DTEND;TZID=America/New_York:20140215T220000
END:VEVENT
END:VCALENDAR
