BEGIN:VCALENDAR
PRODID:-//eluceo/ical//2.0/EN
VERSION:2.0
CALSCALE:GREGORIAN
BEGIN:VEVENT
UID:de2c01b61ef6b430498ef72ae0b846e9
DTSTAMP:20260420T171603Z
SUMMARY:JCC Task Force Meeting
DESCRIPTION:Shalom Lehigh Valley\nCommunity Calendar\nhttps://shalomlehighv
 alley.org/calendar/jcc-task-force-meeting-3437\n\n12:15 PM JFLV JCC Task F
 orce Mtg
DTSTART;TZID=America/New_York:20130115T121500
DTEND;TZID=America/New_York:20130115T141500
END:VEVENT
END:VCALENDAR
