BEGIN:VCALENDAR
PRODID:-//eluceo/ical//2.0/EN
VERSION:2.0
CALSCALE:GREGORIAN
BEGIN:VEVENT
UID:f1d337b4878f88122e41e6c9ab913b88
DTSTAMP:20260421T014751Z
SUMMARY:JDAIM Virtual Town Hall Meeting
DESCRIPTION:Shalom Lehigh Valley\nCommunity Calendar\nhttps://shalomlehighv
 alley.org/calendar/jdaim-virtual-town-hall-398407\n\nAre you Jewish and do
  you have a disability?\n\nAre you a parent of a person with a disability?
 \n\nJDAIM 2022 IS FOR YOU!\n \n\nJewish Family Service of the Lehigh Vall
 ey (JFSLV) and Jewish Federation of the Lehigh Valley (JFLV) recognize the
  need to improve our understanding of ways to create a more inclusive comm
 unity. We need to understand your perspective to create a better future.\n
 \n \n\nJDAIM 2022 Inclusion Survey\n\n \n\nYou are invited to complete a
  brief survey sharing your exper...
DTSTART;TZID=America/New_York:20220220T130000
DTEND;TZID=America/New_York:20220220T143000
END:VEVENT
END:VCALENDAR
