BEGIN:VCALENDAR
PRODID:-//eluceo/ical//2.0/EN
VERSION:2.0
CALSCALE:GREGORIAN
BEGIN:VEVENT
UID:93c605e9adc220f41b8dfa2530562a75
DTSTAMP:20260420T081416Z
SUMMARY:JDS - Last Day of School - Early Dismissal
DESCRIPTION:Shalom Lehigh Valley\nCommunity Calendar\nhttps://shalomlehighv
 alley.org/calendar/jds---last-day-of-school---early-dismissal-3375\n\n11:3
 0 am JDS Last Day of School Early Dismissal
DTSTART;TZID=America/New_York:20130614T080000
DTEND;TZID=America/New_York:20130614T113000
END:VEVENT
END:VCALENDAR
