BEGIN:VCALENDAR
PRODID:-//eluceo/ical//2.0/EN
VERSION:2.0
CALSCALE:GREGORIAN
BEGIN:VEVENT
UID:cba5c821af19b5f92d95bb7c3e85ad70
DTSTAMP:20260421T071904Z
SUMMARY:JDS - Model Seder
DESCRIPTION:Shalom Lehigh Valley\nCommunity Calendar\nhttps://shalomlehighv
 alley.org/calendar/jds---model-seder-3378\n\n10:00 am JDS - Model Seder
DTSTART;TZID=America/New_York:20130320T100000
DTEND;TZID=America/New_York:20130320T120000
END:VEVENT
END:VCALENDAR
