BEGIN:VCALENDAR
PRODID:-//eluceo/ical//2.0/EN
VERSION:2.0
CALSCALE:GREGORIAN
BEGIN:VEVENT
UID:9821d4f9ffbc6721b104b4995c008f34
DTSTAMP:20260419T210159Z
SUMMARY:JDS - Moving-Up Day
DESCRIPTION:Shalom Lehigh Valley\nCommunity Calendar\nhttps://shalomlehighv
 alley.org/calendar/jds---moving-up-day-3360\n\n1 PM JDS - Moving-Up Day
DTSTART;TZID=America/New_York:20130111T130000
DTEND;TZID=America/New_York:20130111T140000
END:VEVENT
END:VCALENDAR
