BEGIN:VCALENDAR
PRODID:-//eluceo/ical//2.0/EN
VERSION:2.0
CALSCALE:GREGORIAN
BEGIN:VEVENT
UID:cb88ddf5f04c7b4c8cb5bd3e0a8b8816
DTSTAMP:20260419T143153Z
SUMMARY:JDS - Music Ensemble Concert
DESCRIPTION:Shalom Lehigh Valley\nCommunity Calendar\nhttps://shalomlehighv
 alley.org/calendar/jds---music-ensemble-concert-3373\n\n6 pm JDS - Music E
 nsemble Concert
DTSTART;TZID=America/New_York:20130606T180000
DTEND;TZID=America/New_York:20130606T200000
END:VEVENT
END:VCALENDAR
