BEGIN:VCALENDAR
PRODID:-//eluceo/ical//2.0/EN
VERSION:2.0
CALSCALE:GREGORIAN
BEGIN:VEVENT
UID:786a97b7cc725f3b544fc948db8745ab
DTSTAMP:20260421T203718Z
SUMMARY:JDS - Yom Hazikaron Ceremony
DESCRIPTION:Shalom Lehigh Valley\nCommunity Calendar\nhttps://shalomlehighv
 alley.org/calendar/jds---yom-hazikaron-ceremony-3369\n\n11 am JDS - Yom Ha
 zikaron Ceremony
DTSTART;TZID=America/New_York:20130415T130000
DTEND;TZID=America/New_York:20130415T140000
END:VEVENT
END:VCALENDAR
