BEGIN:VCALENDAR
PRODID:-//eluceo/ical//2.0/EN
VERSION:2.0
CALSCALE:GREGORIAN
BEGIN:VEVENT
UID:9fdfaa9d7055d23c82467b31be8043ce
DTSTAMP:20260419T172723Z
SUMMARY:JDS and PJ Library Purim Jungle Adventure
DESCRIPTION:Shalom Lehigh Valley\nCommunity Calendar\nhttps://shalomlehighv
 alley.org/calendar/jds-and-pj-library-jungle-adventure-338968\n\nKick off 
 the Purim season! Dress for the wild with your jungle-themed costumes\, en
 joy a twist on our favorite hamentaschen\, create jungle crafts\, vote for
  your favorite decorated classroom door\, walk on the wild side while posi
 ng for a picture in our photo booth and enjoy story time with your favorit
 e PJ Library books.\n\nRSVP to Sara Schonbach at sschonbach@jdslv.org or 6
 10-437-0721.\n\n 
DTSTART;TZID=America/New_York:20200223T103000
DTEND;TZID=America/New_York:20200223T113000
END:VEVENT
END:VCALENDAR
