BEGIN:VCALENDAR
PRODID:-//eluceo/ical//2.0/EN
VERSION:2.0
CALSCALE:GREGORIAN
BEGIN:VEVENT
UID:b781819e2af32577c2b3b495f2114886
DTSTAMP:20260419T165126Z
SUMMARY:JDS Annual Event
DESCRIPTION:Shalom Lehigh Valley\nCommunity Calendar\nhttps://shalomlehighv
 alley.org/calendar/jds-annual-event-355426\n\nMore details to come.\n\nSp
 onsor: Jewish Day School
DTSTART;TZID=America/New_York:20201205T180000
DTEND;TZID=America/New_York:20201205T200000
END:VEVENT
END:VCALENDAR
