BEGIN:VCALENDAR
PRODID:-//eluceo/ical//2.0/EN
VERSION:2.0
CALSCALE:GREGORIAN
BEGIN:VEVENT
UID:6559bf02b024f784e1907bd3b0f486e6
DTSTAMP:20260419T173145Z
SUMMARY:JDS Board of Directors Meeting
DESCRIPTION:Shalom Lehigh Valley\nCommunity Calendar\nhttps://shalomlehighv
 alley.org/calendar/jds-board-of-directors-meeting-3403\n\n7 pm JDS BOD Mee
 ting
DTSTART;TZID=America/New_York:20130109T190000
DTEND;TZID=America/New_York:20130109T203000
END:VEVENT
END:VCALENDAR
