BEGIN:VCALENDAR
PRODID:-//eluceo/ical//2.0/EN
VERSION:2.0
CALSCALE:GREGORIAN
BEGIN:VEVENT
UID:dd5a9ce3fab4b5f37b753ab97029d73a
DTSTAMP:20260419T213212Z
SUMMARY:JDS Closed
DESCRIPTION:Shalom Lehigh Valley\nCommunity Calendar\nhttps://shalomlehighv
 alley.org/calendar/jds-closed-3-30-18-238846\n\nJDS Closed - Pesach Break 
 Begins
DTSTART;TZID=America/New_York:20180330T000000
DTEND;TZID=America/New_York:20180330T000000
END:VEVENT
END:VCALENDAR
