BEGIN:VCALENDAR
PRODID:-//eluceo/ical//2.0/EN
VERSION:2.0
CALSCALE:GREGORIAN
BEGIN:VEVENT
UID:b79ec5ea20b056b0172968576d59d2bc
DTSTAMP:20260423T214608Z
SUMMARY:JDS Closed
DESCRIPTION:Shalom Lehigh Valley\nCommunity Calendar\nhttps://shalomlehighv
 alley.org/calendar/jds-closed-shmini-atzeret-simchat-torah-238653\n\nConta
 ct Adrienne Manger: amanger@jdslv.org or 610-437-0721.
DTSTART;TZID=America/New_York:20171012T000000
DTEND;TZID=America/New_York:20171013T000000
END:VEVENT
END:VCALENDAR
