BEGIN:VCALENDAR
PRODID:-//eluceo/ical//2.0/EN
VERSION:2.0
CALSCALE:GREGORIAN
BEGIN:VEVENT
UID:967a76e5c51a2a614ac05723fe5a535c
DTSTAMP:20260420T230230Z
SUMMARY:6:30pm JDS Hamantaschen Bake
DESCRIPTION:Shalom Lehigh Valley\nCommunity Calendar\nhttps://shalomlehighv
 alley.org/calendar/jds-hamantaschen-bake-373875\n\nJoin us on a delectable
  journey as we make hamantaschen with our very own Chef Feather Frazier 
 from the JDS' Sunshine Cafe on Wednesday\, February 24 at 6:30pm on Zoom. 
 We'll show you how easy it is\, whether you choose to make the dough from 
 scratch or purchase our ready made kit with toppings! Fun for the whole fa
 mily! Event is free and open to all.\n\n$10 ready made hamantaschen kit 
 includes dough plus toppings and will be available for pick-up at the JDS 
 on Feb. 24th from 1:30-3:30pm. K...
DTSTART;TZID=America/New_York:20210224T183000
DTEND;TZID=America/New_York:20210224T203000
END:VEVENT
END:VCALENDAR
