BEGIN:VCALENDAR
PRODID:-//eluceo/ical//2.0/EN
VERSION:2.0
CALSCALE:GREGORIAN
BEGIN:VEVENT
UID:b333159d2c8ae1078d55d85b47c6500c
DTSTAMP:20260419T183400Z
SUMMARY:JDS No Sessions - Pesach Break
DESCRIPTION:Shalom Lehigh Valley\nCommunity Calendar\nhttps://shalomlehighv
 alley.org/calendar/jds-no-sessions---pesach-break-3614\n\nJDS No Sessions 
 - Pesach Break
DTSTART;TZID=America/New_York:20140414T000000
DTEND;TZID=America/New_York:20140423T235900
END:VEVENT
END:VCALENDAR
