BEGIN:VCALENDAR
PRODID:-//eluceo/ical//2.0/EN
VERSION:2.0
CALSCALE:GREGORIAN
BEGIN:VEVENT
UID:75275166da0b76571d755302f2b8d7bf
DTSTAMP:20260419T233117Z
SUMMARY:JDS No Sessions - Rosh Hashana
DESCRIPTION:Shalom Lehigh Valley\nCommunity Calendar\nhttps://shalomlehighv
 alley.org/calendar/jds-no-sessions---rosh-hashana-3592\n\nJDS No Sessions 
 - Rosh Hashana
DTSTART;TZID=America/New_York:20130905T000000
DTEND;TZID=America/New_York:20130906T235900
END:VEVENT
END:VCALENDAR
