BEGIN:VCALENDAR
PRODID:-//eluceo/ical//2.0/EN
VERSION:2.0
CALSCALE:GREGORIAN
BEGIN:VEVENT
UID:f080622ab580bff2f2d8847a6881234e
DTSTAMP:20260419T143213Z
SUMMARY:JDS No Sessions - Thanksgiving Break
DESCRIPTION:Shalom Lehigh Valley\nCommunity Calendar\nhttps://shalomlehighv
 alley.org/calendar/jds-no-sessions---thanksgiving-break-3601\n\nJDS No Ses
 sions - Thanksgiving Break
DTSTART;TZID=America/New_York:20131128T000000
DTEND;TZID=America/New_York:20131129T235900
END:VEVENT
END:VCALENDAR
