BEGIN:VCALENDAR
PRODID:-//eluceo/ical//2.0/EN
VERSION:2.0
CALSCALE:GREGORIAN
BEGIN:VEVENT
UID:4cc7da4316b7d4c98eb8838f53c74fbe
DTSTAMP:20260421T082605Z
SUMMARY:Jewish Federation Campaign Launch
DESCRIPTION:Shalom Lehigh Valley\nCommunity Calendar\nhttps://shalomlehighv
 alley.org/calendar/jewish-federation-campaign-launch-199557\n\nCalling all
  volunteers!  Join us for an inspirational evening with Lori Klinghoffer\
 , immediate past president of The Jewish Federations of North America's Na
 tional Women's Philanthropy Board\, and help us kick off the 2017 Campaign
  for Jewish Needs. \n\nMs. Klinghoffer also serves on JFNA's Development 
 Leadership Cabinet\, Executive Committee and is a vice chair of the JFNA B
 oard of Trustees.\n\nShe serves as chair of the United Jewish Communities 
 of MetroWest NJ Israel and Overseas committee...
DTSTART;TZID=America/New_York:20160919T190000
DTEND;TZID=America/New_York:20160919T203000
END:VEVENT
END:VCALENDAR
