BEGIN:VCALENDAR
PRODID:-//eluceo/ical//2.0/EN
VERSION:2.0
CALSCALE:GREGORIAN
BEGIN:VEVENT
UID:dd3467f9852a2ede5bbd6a46ca1e0dca
DTSTAMP:20260419T173555Z
SUMMARY:Jewish Federation Major Donor Reception
DESCRIPTION:Shalom Lehigh Valley\nCommunity Calendar\nhttps://shalomlehighv
 alley.org/calendar/jewish-federation-major-donor-reception-3313\n\n6:30PM 
 JFLV Major Gifts Event
DTSTART;TZID=America/New_York:20131006T183000
DTEND;TZID=America/New_York:20131006T210000
END:VEVENT
END:VCALENDAR
