BEGIN:VCALENDAR
PRODID:-//eluceo/ical//2.0/EN
VERSION:2.0
CALSCALE:GREGORIAN
BEGIN:VEVENT
UID:82f5d1297b09fb0e10fa198cd3ba40f3
DTSTAMP:20260420T175016Z
SUMMARY:Jewish Heritage Night at the IronPigs!
DESCRIPTION:Shalom Lehigh Valley\nCommunity Calendar\nhttps://shalomlehighv
 alley.org/calendar/jewish-heritage-night-at-the-ironpigs-404603\n\nJoin th
 e Jewish community for the annual Jewish Heritage Night at the IronPigs!\
 n \nLehigh Valley Ironpigs vs. Worcester Red Sox\, Triple-A affiliate o
 f the Boston Red Sox\, at Coca-Cola Park\n\n$22 Tickets Include:\nField l
 evel ticket  |  Food voucher* \nJewish Heritage Night backpack \n*A Gl
 att Kosher meat meal under the supervision of the Lehigh Valley Kashrut Co
 mmission \n\n$16 Tickets Include:\nField level ticket  |  $2 ballpark c
 redit\nJewish Heritage Night backpack \n\nClick...
DTSTART;TZID=America/New_York:20220526T190500
DTEND;TZID=America/New_York:20220526T210000
END:VEVENT
END:VCALENDAR
