BEGIN:VCALENDAR
PRODID:-//eluceo/ical//2.0/EN
VERSION:2.0
CALSCALE:GREGORIAN
BEGIN:VEVENT
UID:006b5ba03f79e706b140c739a9a746e1
DTSTAMP:20260419T161054Z
SUMMARY:JFLV 7:00 pm CIP meeting
DESCRIPTION:Shalom Lehigh Valley\nCommunity Calendar\nhttps://shalomlehighv
 alley.org/calendar/jflv-700-pm-cip-meeting-216999\n\nCommunity Impact Part
 nership meeting. More details to follow.
DTSTART;TZID=America/New_York:20170220T190000
DTEND;TZID=America/New_York:20170220T210000
END:VEVENT
END:VCALENDAR
