BEGIN:VCALENDAR
PRODID:-//eluceo/ical//2.0/EN
VERSION:2.0
CALSCALE:GREGORIAN
BEGIN:VEVENT
UID:6b228bf151f3220bbcb8147d329a4b85
DTSTAMP:20260420T034800Z
SUMMARY:7:15 pm JFLV Board of Directors Meeting
DESCRIPTION:Shalom Lehigh Valley\nCommunity Calendar\nhttps://shalomlehighv
 alley.org/calendar/jflv-board-of-directors-meetingMarch2015-67987\n\nMeeti
 ng Location: JCC Auxiliary Auditorium. Contact Mark Goldstein 610-821-5500
  x325 or markg@jflv.org.
DTSTART;TZID=America/New_York:20150330T191500
DTEND;TZID=America/New_York:20150330T211500
END:VEVENT
END:VCALENDAR
