BEGIN:VCALENDAR
PRODID:-//eluceo/ical//2.0/EN
VERSION:2.0
CALSCALE:GREGORIAN
BEGIN:VEVENT
UID:167a07f4d97557a475bbad163eea6365
DTSTAMP:20260420T163454Z
SUMMARY:7:15 pm JFLV Board of Directors Meeting
DESCRIPTION:Shalom Lehigh Valley\nCommunity Calendar\nhttps://shalomlehighv
 alley.org/calendar/jflv-board-of-directors-meetingSept2014-67727\n\nMeetin
 g Location: JCC Auxiliary Auditorium. Contact: Mark Goldstein  610-821-550
 0.
DTSTART;TZID=America/New_York:20140915T191500
DTEND;TZID=America/New_York:20140915T211500
END:VEVENT
END:VCALENDAR
