BEGIN:VCALENDAR
PRODID:-//eluceo/ical//2.0/EN
VERSION:2.0
CALSCALE:GREGORIAN
BEGIN:VEVENT
UID:d04fa569943e73e3608196e4842cc72c
DTSTAMP:20260421T034040Z
SUMMARY:Jewish Federation Community Celebration
DESCRIPTION:Shalom Lehigh Valley\nCommunity Calendar\nhttps://shalomlehighv
 alley.org/calendar/jflv-celebrate-community-3637\n\nHeavy Israeli-themed h
 ors d'oeuvres and open bar. Buffet and bar open at 6:15 p.m.\n \nPlease j
 oin us in honoring outgoing leadership\, presenting special awards and cel
 ebrating the end of the 2014 campaign year.\n\nThank Barry Halper for two 
 outstanding years as president and welcome new president Mark Scoblionko.\
 n\n \n\n  \nDr. Frank Tamarkin\nGeorge Feldman Achievement Award for 
 Young Leadership\n \nDr. Bob Wilson\nKobrovsky Chairman's Award for Camp
 aign Leadership\n \nVicki Glase...
DTSTART;TZID=America/New_York:20140612T183000
DTEND;TZID=America/New_York:20140612T200000
END:VEVENT
END:VCALENDAR
