BEGIN:VCALENDAR
PRODID:-//eluceo/ical//2.0/EN
VERSION:2.0
CALSCALE:GREGORIAN
BEGIN:VEVENT
UID:c6e7d9b2895dfefc13d25246690f41f1
DTSTAMP:20260419T141054Z
SUMMARY:JFLV CLOSED FOR PASSOVER
DESCRIPTION:Shalom Lehigh Valley\nCommunity Calendar\nhttps://shalomlehighv
 alley.org/calendar/jflv-closed-for-passover-428333\n\nJFLV Office closed f
 or Passover
DTSTART;TZID=America/New_York:20230412T000000
DTEND;TZID=America/New_York:20230413T000000
END:VEVENT
END:VCALENDAR
