BEGIN:VCALENDAR
PRODID:-//eluceo/ical//2.0/EN
VERSION:2.0
CALSCALE:GREGORIAN
BEGIN:VEVENT
UID:83e3250bdc011f30d3a80958206acf06
DTSTAMP:20260419T115450Z
SUMMARY:JFLV Office Closed for Shavuot
DESCRIPTION:Shalom Lehigh Valley\nCommunity Calendar\nhttps://shalomlehighv
 alley.org/calendar/jflv-closed-for-shavuot6622-387193\n\nJFLV Office Close
 d
DTSTART;TZID=America/New_York:20220606T000000
DTEND;TZID=America/New_York:20220606T235959
END:VEVENT
END:VCALENDAR
