BEGIN:VCALENDAR
PRODID:-//eluceo/ical//2.0/EN
VERSION:2.0
CALSCALE:GREGORIAN
BEGIN:VEVENT
UID:25b8a848193cff6d0d283211175d9681
DTSTAMP:20260420T152030Z
SUMMARY:Jewish Federation Community Celebration & Annual Meeting
DESCRIPTION:Shalom Lehigh Valley\nCommunity Calendar\nhttps://shalomlehighv
 alley.org/calendar/jflv-community-celebrationannual-meeting-6-14-16-146632
 \n\nJoin the Jewish Federation to honor our amazing volunteers and leaders
 . Heavy hors d'oeuvres and open bar.
DTSTART;TZID=America/New_York:20160614T183000
DTEND;TZID=America/New_York:20160614T210000
END:VEVENT
END:VCALENDAR
