BEGIN:VCALENDAR
PRODID:-//eluceo/ical//2.0/EN
VERSION:2.0
CALSCALE:GREGORIAN
BEGIN:VEVENT
UID:27994d90f5cadab9231e32d07ba4b869
DTSTAMP:20260419T230008Z
SUMMARY:JFLV Community Patrons Reception
DESCRIPTION:Shalom Lehigh Valley\nCommunity Calendar\nhttps://shalomlehighv
 alley.org/calendar/jflv-community-patrons-reception-65410\n\nBE THERE for 
 the first ever Community Patrons Receptions\, celebrating households that 
 have made a minimum commitment of $1\,800 to the 2015 Campaign for Jewish 
 Needs.
DTSTART;TZID=America/New_York:20140929T190000
DTEND;TZID=America/New_York:20140929T210000
END:VEVENT
END:VCALENDAR
