BEGIN:VCALENDAR
PRODID:-//eluceo/ical//2.0/EN
VERSION:2.0
CALSCALE:GREGORIAN
BEGIN:VEVENT
UID:d8a21206575a764350e7ac64d9bc8857
DTSTAMP:20260421T155814Z
SUMMARY:7:00 pm JFLV-JWRP Class
DESCRIPTION:Shalom Lehigh Valley\nCommunity Calendar\nhttps://shalomlehighv
 alley.org/calendar/jflv-jwrp-class1818-245088\n\nClass: Living your Person
 al Destiny\n\nLocation: Private Home
DTSTART;TZID=America/New_York:20180108T190000
DTEND;TZID=America/New_York:20180108T210000
END:VEVENT
END:VCALENDAR
