BEGIN:VCALENDAR
PRODID:-//eluceo/ical//2.0/EN
VERSION:2.0
CALSCALE:GREGORIAN
BEGIN:VEVENT
UID:38ec4ec3add1f1a88bfc24ff55405716
DTSTAMP:20260420T145030Z
SUMMARY:10:30 am JFLV-JWRP Class
DESCRIPTION:Shalom Lehigh Valley\nCommunity Calendar\nhttps://shalomlehighv
 alley.org/calendar/jflv-jwrp-class92417-245039\n\nClass: The Matriarch in 
 You\, Rosh Hashana\n\nLocation: Private Home
DTSTART;TZID=America/New_York:20170924T103000
DTEND;TZID=America/New_York:20170924T123000
END:VEVENT
END:VCALENDAR
