BEGIN:VCALENDAR
PRODID:-//eluceo/ical//2.0/EN
VERSION:2.0
CALSCALE:GREGORIAN
BEGIN:VEVENT
UID:d735f690624ea525cea568f673b63654
DTSTAMP:20260419T143010Z
SUMMARY:JFLV Major Donor Event
DESCRIPTION:Shalom Lehigh Valley\nCommunity Calendar\nhttps://shalomlehighv
 alley.org/calendar/jflv-major-donor-event-49504\n\n2:00 PM JFLV Major Dono
 r Event
DTSTART;TZID=America/New_York:20140330T140000
DTEND;TZID=America/New_York:20140330T170000
END:VEVENT
END:VCALENDAR
