BEGIN:VCALENDAR
PRODID:-//eluceo/ical//2.0/EN
VERSION:2.0
CALSCALE:GREGORIAN
BEGIN:VEVENT
UID:8623c061adbcf29adfa3f681dd998351
DTSTAMP:20260420T112819Z
SUMMARY:Mortimer S. Schiff Memorial Golf Tournament
DESCRIPTION:Shalom Lehigh Valley\nCommunity Calendar\nhttps://shalomlehighv
 alley.org/calendar/jflv-mortimer-s-schiff-memorial-golf-tournament-3559\n\
 nThis full-day affair features 18 holes of golf at the beautiful Lehigh Co
 untry Club\, a decadent dairy brunch and scrumptious plated dinner in the 
 clubhouse\, amazing games and prizes and SO MUCH MORE!  
DTSTART;TZID=America/New_York:20140609T100000
DTEND;TZID=America/New_York:20140609T200000
END:VEVENT
END:VCALENDAR
