BEGIN:VCALENDAR
PRODID:-//eluceo/ical//2.0/EN
VERSION:2.0
CALSCALE:GREGORIAN
BEGIN:VEVENT
UID:556607f840bc7acbd8ca9985c544c888
DTSTAMP:20260420T103641Z
SUMMARY:JFLV Next Gen Event
DESCRIPTION:Shalom Lehigh Valley\nCommunity Calendar\nhttps://shalomlehighv
 alley.org/calendar/jflv-next-gen-event-333311\n\nAn event for young adult 
 donors to the Jewish Federation. More information to come.
DTSTART;TZID=America/New_York:20200321T190000
DTEND;TZID=America/New_York:20200321T210000
END:VEVENT
END:VCALENDAR
