BEGIN:VCALENDAR
PRODID:-//eluceo/ical//2.0/EN
VERSION:2.0
CALSCALE:GREGORIAN
BEGIN:VEVENT
UID:38ac1ccc8973692cf4f778f2d438b39d
DTSTAMP:20260420T191958Z
SUMMARY:JFLV Office Closed for Rosh Hashanah
DESCRIPTION:Shalom Lehigh Valley\nCommunity Calendar\nhttps://shalomlehighv
 alley.org/calendar/jflv-office-closed-for-rosh-hashanah97821-374559\n\nJFL
 V Office Closed for Rosh Hashanah
DTSTART;TZID=America/New_York:20210907T000000
DTEND;TZID=America/New_York:20210908T235959
END:VEVENT
END:VCALENDAR
