BEGIN:VCALENDAR
PRODID:-//eluceo/ical//2.0/EN
VERSION:2.0
CALSCALE:GREGORIAN
BEGIN:VEVENT
UID:7b1692ccdf1472a3dfa737e12589f9de
DTSTAMP:20260421T132131Z
SUMMARY:JFLV Phone-a-thon
DESCRIPTION:Shalom Lehigh Valley\nCommunity Calendar\nhttps://shalomlehighv
 alley.org/calendar/jflv-phone-a-thon61119-310307\n\nMore informatin to fol
 low
DTSTART;TZID=America/New_York:20190611T180000
DTEND;TZID=America/New_York:20190611T200000
END:VEVENT
END:VCALENDAR
