BEGIN:VCALENDAR
PRODID:-//eluceo/ical//2.0/EN
VERSION:2.0
CALSCALE:GREGORIAN
BEGIN:VEVENT
UID:ed1c66b564ef95250f5c71193c72cfbd
DTSTAMP:20260419T190300Z
SUMMARY:Shalom Baby Reunion
DESCRIPTION:Shalom Lehigh Valley\nCommunity Calendar\nhttps://shalomlehighv
 alley.org/calendar/jflv-shalom-baby-reunion-49505\n\nShalom Baby families 
 – don’t miss our annual reunion playdate! Make new friends for you and
  the kiddos! Snacks and drinks on us\, and pictures too!\n\nRSVP to Abby T
 rachtman at 610-821-5500 or abbyt@jflv.org.\n\nShalom Baby is a project of
  the Women’s Division of the Jewish Federation of the Lehigh Valley.
DTSTART;TZID=America/New_York:20140608T100000
DTEND;TZID=America/New_York:20140608T120000
END:VEVENT
END:VCALENDAR
