BEGIN:VCALENDAR
PRODID:-//eluceo/ical//2.0/EN
VERSION:2.0
CALSCALE:GREGORIAN
BEGIN:VEVENT
UID:ddc4112500560d9b7b4c973640193270
DTSTAMP:20260421T201804Z
SUMMARY:JFLV YAD Brews with Jews
DESCRIPTION:Shalom Lehigh Valley\nCommunity Calendar\nhttps://shalomlehighv
 alley.org/calendar/jflv-yad-brews-with-jews-3459\n\n5:30PM JFLV YAD Brews 
 with Jews
DTSTART;TZID=America/New_York:20130418T173000
DTEND;TZID=America/New_York:20130418T190000
END:VEVENT
END:VCALENDAR
