BEGIN:VCALENDAR
PRODID:-//eluceo/ical//2.0/EN
VERSION:2.0
CALSCALE:GREGORIAN
BEGIN:VEVENT
UID:5aeb6a104592b4a8372a1f6a98fe3a62
DTSTAMP:20260420T232933Z
SUMMARY:JFNA General Assembly 2017
DESCRIPTION:Shalom Lehigh Valley\nCommunity Calendar\nhttps://shalomlehighv
 alley.org/calendar/jfna-general-assembly-2017-212727\n\n2017 General Assem
 bly taking place in Los Angeles\, CA.
DTSTART;TZID=America/New_York:20171112T000000
DTEND;TZID=America/New_York:20171114T235959
END:VEVENT
END:VCALENDAR
