BEGIN:VCALENDAR
PRODID:-//eluceo/ical//2.0/EN
VERSION:2.0
CALSCALE:GREGORIAN
BEGIN:VEVENT
UID:4abe4648d360b989d8d29c43c53115fe
DTSTAMP:20260420T051335Z
SUMMARY:JFS Board of Directors Meeting
DESCRIPTION:Shalom Lehigh Valley\nCommunity Calendar\nhttps://shalomlehighv
 alley.org/calendar/jfs-board-of-directors-meeting6-17-14-49454\n\n07:00 PM
  JFS Board of Directors Meeting
DTSTART;TZID=America/New_York:20140617T190000
DTEND;TZID=America/New_York:20140617T200000
END:VEVENT
END:VCALENDAR
