BEGIN:VCALENDAR
PRODID:-//eluceo/ical//2.0/EN
VERSION:2.0
CALSCALE:GREGORIAN
BEGIN:VEVENT
UID:a602b7619290ee3bba0977d883b6463a
DTSTAMP:20260420T163645Z
SUMMARY:JFS The Oys and Ows\, Dealing with Chronic Pain
DESCRIPTION:Shalom Lehigh Valley\nCommunity Calendar\nhttps://shalomlehighv
 alley.org/calendar/jfs-the-oys-and-ows-dealing-with-chronic-pain-3722\n\n1
 1:00 AM JFS Workshop on Chronic Pain
DTSTART;TZID=America/New_York:20131112T110000
DTEND;TZID=America/New_York:20131112T123000
END:VEVENT
END:VCALENDAR
