BEGIN:VCALENDAR
PRODID:-//eluceo/ical//2.0/EN
VERSION:2.0
CALSCALE:GREGORIAN
BEGIN:VEVENT
UID:a718a7bcdbe3403dda84278b75c659ff
DTSTAMP:20260419T201046Z
SUMMARY:jfs Wine & Whine
DESCRIPTION:Shalom Lehigh Valley\nCommunity Calendar\nhttps://shalomlehighv
 alley.org/calendar/jfs-wine--whine-3698\n\n07:00 PM Wine and Whine support
  group for boomers
DTSTART;TZID=America/New_York:20131021T190000
DTEND;TZID=America/New_York:20131021T200000
END:VEVENT
END:VCALENDAR
