BEGIN:VCALENDAR
PRODID:-//eluceo/ical//2.0/EN
VERSION:2.0
CALSCALE:GREGORIAN
BEGIN:VEVENT
UID:14eba68d037d25bce519e30605d42d07
DTSTAMP:20260419T183455Z
SUMMARY:7:00 PM JWRP 3 Meeting
DESCRIPTION:Shalom Lehigh Valley\nCommunity Calendar\nhttps://shalomlehighv
 alley.org/calendar/jwrp-3-meeting-2-302057\n\nA meeting of the third cohor
 t of JWRP.
DTSTART;TZID=America/New_York:20190430T190000
DTEND;TZID=America/New_York:20190430T210000
END:VEVENT
END:VCALENDAR
